BEGIN:VCALENDAR
VERSION:2.0
PRODID:-//Vinag 1847 - ECPv6.15.20//NONSGML v1.0//EN
CALSCALE:GREGORIAN
METHOD:PUBLISH
X-WR-CALNAME:Vinag 1847
X-ORIGINAL-URL:https://vinag1847.si
X-WR-CALDESC:Dogodki za Vinag 1847
REFRESH-INTERVAL;VALUE=DURATION:PT1H
X-Robots-Tag:noindex
X-PUBLISHED-TTL:PT1H
BEGIN:VTIMEZONE
TZID:Europe/Ljubljana
BEGIN:DAYLIGHT
TZOFFSETFROM:+0100
TZOFFSETTO:+0200
TZNAME:CEST
DTSTART:20250330T010000
END:DAYLIGHT
BEGIN:STANDARD
TZOFFSETFROM:+0200
TZOFFSETTO:+0100
TZNAME:CET
DTSTART:20251026T010000
END:STANDARD
BEGIN:DAYLIGHT
TZOFFSETFROM:+0100
TZOFFSETTO:+0200
TZNAME:CEST
DTSTART:20260329T010000
END:DAYLIGHT
BEGIN:STANDARD
TZOFFSETFROM:+0200
TZOFFSETTO:+0100
TZNAME:CET
DTSTART:20261025T010000
END:STANDARD
BEGIN:DAYLIGHT
TZOFFSETFROM:+0100
TZOFFSETTO:+0200
TZNAME:CEST
DTSTART:20270328T010000
END:DAYLIGHT
BEGIN:STANDARD
TZOFFSETFROM:+0200
TZOFFSETTO:+0100
TZNAME:CET
DTSTART:20271031T010000
END:STANDARD
END:VTIMEZONE
BEGIN:VEVENT
DTSTART;TZID=Europe/Ljubljana:20260417T210000
DTEND;TZID=Europe/Ljubljana:20260418T040000
DTSTAMP:20260419T172716
CREATED:20260306T085106Z
LAST-MODIFIED:20260318T081137Z
UID:2848-1776459600-1776484800@vinag1847.si
SUMMARY:Premierni nastop v Sloveniji: BOKACONGA
DESCRIPTION:Večer domače glasbe v Vinagovi kleti				\n				\n				\n				\n									Večer domače glasbe vas bo v podzemnih tunelih Vinagove kleti popeljal v prijetno in sproščeno vzdušje ob zvokih narodnozabavne glasbe. Na odru bodo za odlično razpoloženje poskrbeli: Kvintet alpskih deklet\,Boštjan Konečnik inansambel Brloga.Čaka vas večer poln dobre volje\, petja in prijetnega druženja.Ne zamudite nepozabnega glasbenega doživetja! 								\n				\n				\n				\n					\n	« Vsi Dogodki\n 				\n				\n					\n		\n				\n			\n						\n				\n					\n		\n			23. maj\n\n	\n\n	  @  \n\n\n21:00\n\n	\n\n		\n	\n	  -  \n\n	24. maj\n\n	\n\n	  @  \n\n\n04:00\n\n\n\n	\n				\n				\n				\n				\n									Prodaja vstopnic\n								\n				\n				\n				\n					\n	\n				\n				\n				\n				\n					\n	\n		\n\n	\n	Dodaj v koledar	\n		\n	\n\n		\n			\n									\n	Google koledar\n\n									\n	iCalendar\n\n									\n	Outlook 365\n\n									\n	Outlook Live\n\n							\n		\n\n		\n	\n\n				\n				\n				\n				\n					\n	\n		\n\n				Premierni nastop v Sloveniji: BOKACONGA
URL:https://vinag1847.si/dogodek/premierni-nastop-v-sloveniji-bokaconga/
ATTACH;FMTTYPE=image/jpeg:https://vinag1847.si/wp-content/uploads/2026/03/Vinag_Dogodek-Boka-Conga_Event-cover_februar-2026_1920-x-1005.jpg
END:VEVENT
BEGIN:VEVENT
DTSTART;TZID=Europe/Ljubljana:20260523T210000
DTEND;TZID=Europe/Ljubljana:20260524T040000
DTSTAMP:20260419T172716
CREATED:20260415T075025Z
LAST-MODIFIED:20260416T082737Z
UID:3148-1779570000-1779595200@vinag1847.si
SUMMARY:Večer domače glasbe v Vinagovi kleti
DESCRIPTION:Večer domače glasbe v Vinagovi kleti				\n				\n				\n				\n									Večer domače glasbe vas bo v podzemnih tunelih Vinagove kleti popeljal v prijetno in sproščeno vzdušje ob zvokih narodnozabavne glasbe. Na odru bodo za odlično razpoloženje poskrbeli: Kvintet alpskih deklet\,Boštjan Konečnik inansambel Brloga.Čaka vas večer poln dobre volje\, petja in prijetnega druženja.Ne zamudite nepozabnega glasbenega doživetja! 								\n				\n				\n				\n					\n	« Vsi Dogodki\n 				\n				\n					\n		\n				\n			\n						\n				\n					\n		\n			23. maj\n\n	\n\n	  @  \n\n\n21:00\n\n	\n\n		\n	\n	  -  \n\n	24. maj\n\n	\n\n	  @  \n\n\n04:00\n\n\n\n	\n				\n				\n				\n				\n									Prodaja vstopnic\n								\n				\n				\n				\n					\n	\n				\n				\n				\n				\n					\n	\n		\n\n	\n	Dodaj v koledar	\n		\n	\n\n		\n			\n									\n	Google koledar\n\n									\n	iCalendar\n\n									\n	Outlook 365\n\n									\n	Outlook Live\n\n							\n		\n\n		\n	\n\n				\n				\n				\n				\n					\n	\n		\n\n				Premierni nastop v Sloveniji: BOKACONGA
URL:https://vinag1847.si/dogodek/vecer-domace-glasbe-v-vinagovi-kleti/
ATTACH;FMTTYPE=image/jpeg:https://vinag1847.si/wp-content/uploads/2026/04/VECER-DOMACE-GLASBE_page-0001.jpg
END:VEVENT
END:VCALENDAR